BEGIN:VCALENDAR
VERSION:2.0
PRODID:-//ddaysoftware.com//NONSGML DDay.iCal 1.0//EN
BEGIN:VTIMEZONE
TZID:W. Europe Standard Time
BEGIN:STANDARD
DTSTART:20251002T030000
RRULE:FREQ=YEARLY;BYDAY=-1SU;BYHOUR=3;BYMINUTE=0;BYMONTH=10
TZNAME:Mitteleuropäische Zeit
TZOFFSETFROM:+0200
TZOFFSETTO:+0100
END:STANDARD
BEGIN:DAYLIGHT
DTSTART:20250301T020000
RRULE:FREQ=YEARLY;BYDAY=-1SU;BYHOUR=2;BYMINUTE=0;BYMONTH=3
TZNAME:Mitteleuropäische Sommerzeit
TZOFFSETFROM:+0100
TZOFFSETTO:+0200
END:DAYLIGHT
END:VTIMEZONE
BEGIN:VEVENT
CATEGORIES:Messe\, Markt
DESCRIPTION:Ab 13.00 Uhr haben unsere Fachgeschäfte für Sie geöffnet.\n\nVe
 ranstalter: Markt Großheubach\, Gewerbe-Interessen-Gemeinschaft Großheubac
 h e.V.\n\nhttps://www.grossheubach.de/freizeit-veranstaltungen/termine/ver
 anstaltungskalender/kerbmarkt/
DTEND:20261011T120000
DTSTAMP:20260421T083523Z
DTSTART:20261011T110000
SEQUENCE:0
SUMMARY:Kerbmarkt - Tag der Kirchweih
UID:18106
URL:https://www.grossheubach.de/freizeit-veranstaltungen/termine/veranstalt
 ungskalender/kerbmarkt/
END:VEVENT
END:VCALENDAR
