BEGIN:VCALENDAR
VERSION:2.0
PRODID:-//ddaysoftware.com//NONSGML DDay.iCal 1.0//EN
BEGIN:VTIMEZONE
TZID:W. Europe Standard Time
BEGIN:STANDARD
DTSTART:20251002T030000
RRULE:FREQ=YEARLY;BYDAY=-1SU;BYHOUR=3;BYMINUTE=0;BYMONTH=10
TZNAME:Mitteleuropäische Zeit
TZOFFSETFROM:+0200
TZOFFSETTO:+0100
END:STANDARD
BEGIN:DAYLIGHT
DTSTART:20250301T020000
RRULE:FREQ=YEARLY;BYDAY=-1SU;BYHOUR=2;BYMINUTE=0;BYMONTH=3
TZNAME:Mitteleuropäische Sommerzeit
TZOFFSETFROM:+0100
TZOFFSETTO:+0200
END:DAYLIGHT
END:VTIMEZONE
BEGIN:VEVENT
CATEGORIES:Fest\, Kulinarisches
DESCRIPTION:\n\nVeranstalter: TSV-Großheubach 1900 e.V.\n\nhttps://www.gros
 sheubach.de/freizeit-veranstaltungen/termine/veranstaltungskalender/naerri
 sche-weinprobe/
DTEND;VALUE=DATE:20270717
DTSTAMP:20260420T153747Z
DTSTART;VALUE=DATE:20270716
SEQUENCE:0
SUMMARY:Närrische Weinprobe
UID:198656
URL:https://www.grossheubach.de/freizeit-veranstaltungen/termine/veranstalt
 ungskalender/naerrische-weinprobe/
END:VEVENT
END:VCALENDAR
